BEGIN:VCALENDAR
VERSION:2.0
PRODID:-//CERN//INDICO//EN
BEGIN:VEVENT
SUMMARY:Encuentro punto recogida y traslado al IFIC
DTSTART;VALUE=DATE-TIME:20260217T080000Z
DTEND;VALUE=DATE-TIME:20260217T083000Z
DTSTAMP;VALUE=DATE-TIME:20260419T171752Z
UID:indico-contribution-29555@indico.ific.uv.es
DESCRIPTION:Speakers: Dolores Cortina Gil (IFIC (CSIC-UV))\, Enrique Nache
 r (IFIC\, CSIC-UV)\nhttps://indico.ific.uv.es/event/8370/contributions/295
 55/
LOCATION:Parc Cintífic de la Universitat de València Salón de Actos Edi
 ficio Cabecera
URL:https://indico.ific.uv.es/event/8370/contributions/29555/
END:VEVENT
END:VCALENDAR
