BEGIN:VCALENDAR
VERSION:2.0
PRODID:-//CERN//INDICO//EN
BEGIN:VEVENT
SUMMARY:Prácticas laboratorio
DTSTART;VALUE=DATE-TIME:20260217T110000Z
DTEND;VALUE=DATE-TIME:20260217T120000Z
DTSTAMP;VALUE=DATE-TIME:20260420T230346Z
UID:indico-contribution-29554@indico.ific.uv.es
DESCRIPTION:Speakers: Jose Benlliure (Instituto de Física Corpuscular)\, 
 Enrique Nacher (IFIC\, CSIC-UV)\, David Rodriguez Garcia (IFIC)\, Jose Jav
 ier Valiente Dobon (CISIC-IFIC)\n- Diferenciar partículas con detector Mi
 niPix de Silicio: los rayos cósmicos\n- Medidas del fondo ambiental con d
 etector de Germanio\n- Atenuación de la radiación en la materia con cent
 elleadores\n\nhttps://indico.ific.uv.es/event/8370/contributions/29554/
LOCATION:IFIC Laboratorio grupo gamma
URL:https://indico.ific.uv.es/event/8370/contributions/29554/
END:VEVENT
END:VCALENDAR
