BEGIN:VCALENDAR
VERSION:2.0
PRODID:-//CERN//INDICO//EN
BEGIN:VEVENT
SUMMARY:Construyendo la Materia
DTSTART;VALUE=DATE-TIME:20260217T100000Z
DTEND;VALUE=DATE-TIME:20260217T110000Z
DTSTAMP;VALUE=DATE-TIME:20260419T175452Z
UID:indico-contribution-29553@indico.ific.uv.es
DESCRIPTION:Speakers: Juan M Nieves (IFIC\, CSIC-UV)\, Enrique Nacher (IFI
 C\, CSIC-UV)\, Alessandro Lovato (Argonne National Laboratory & INFN)\, Do
 lores Cortina Gil (IFIC (CSIC-UV))\n-  construyendo materia a partir de lo
 s quarks (sala reunión)\n-  la fuerza que mantiene unidos los nucleones (
 audiovisuales)\n\nhttps://indico.ific.uv.es/event/8370/contributions/29553
 /
LOCATION:IFIC Nau Experimental
URL:https://indico.ific.uv.es/event/8370/contributions/29553/
END:VEVENT
END:VCALENDAR
