BEGIN:VCALENDAR
VERSION:2.0
PRODID:-//CERN//INDICO//EN
BEGIN:VEVENT
SUMMARY:Bienvenida IFIC y Facultat de Física
DTSTART;VALUE=DATE-TIME:20260217T083000Z
DTEND;VALUE=DATE-TIME:20260217T085000Z
DTSTAMP;VALUE=DATE-TIME:20260420T161125Z
UID:indico-contribution-29552@indico.ific.uv.es
DESCRIPTION:Speakers: José María Martí ()\, Sergio Pastor (IFIC\, CSIC-
 UV)\nBienvenida e introducción al Instituto de Física Corpuscular (centr
 o mixto CSIC - UV) por el Director del instituto y el vicedecano de la Fac
 ultat.\n\nhttps://indico.ific.uv.es/event/8370/contributions/29552/
LOCATION:Parc Científic de la Universitat de València Salón de Actos Ed
 ificio Cabecera
URL:https://indico.ific.uv.es/event/8370/contributions/29552/
END:VEVENT
END:VCALENDAR
