BEGIN:VCALENDAR
VERSION:2.0
PRODID:-//CERN//INDICO//EN
BEGIN:VEVENT
SUMMARY:Charla Introducción Física Nuclear
DTSTART;VALUE=DATE-TIME:20260217T085000Z
DTEND;VALUE=DATE-TIME:20260217T093000Z
DTSTAMP;VALUE=DATE-TIME:20260420T043431Z
UID:indico-contribution-29551@indico.ific.uv.es
DESCRIPTION:Speakers: Jose Benlliure (Instituto de Física Corpuscular)\nh
 ttps://indico.ific.uv.es/event/8370/contributions/29551/
LOCATION:Parc Científica de la Universitat de València Salón de Actos
URL:https://indico.ific.uv.es/event/8370/contributions/29551/
END:VEVENT
END:VCALENDAR
