BEGIN:VCALENDAR
VERSION:2.0
PRODID:-//CERN//INDICO//EN
BEGIN:VEVENT
SUMMARY:Update on NP04 article
DTSTART;VALUE=DATE-TIME:20251217T093000Z
DTEND;VALUE=DATE-TIME:20251217T094000Z
DTSTAMP;VALUE=DATE-TIME:20260421T074655Z
UID:indico-contribution-29542@indico.ific.uv.es
DESCRIPTION:Speakers: Julio Ureña (IFIC)\nhttps://indico.ific.uv.es/event
 /8368/contributions/29542/
LOCATION:Universe 1001-Primera-119 - Nave. Exp. Sala de Reuniones
URL:https://indico.ific.uv.es/event/8368/contributions/29542/
END:VEVENT
END:VCALENDAR
