BEGIN:VCALENDAR
VERSION:2.0
PRODID:-//CERN//INDICO//EN
BEGIN:VEVENT
SUMMARY:Update on CERN activities
DTSTART;VALUE=DATE-TIME:20251217T091500Z
DTEND;VALUE=DATE-TIME:20251217T093000Z
DTSTAMP;VALUE=DATE-TIME:20260421T163301Z
UID:indico-contribution-29541@indico.ific.uv.es
DESCRIPTION:Speakers: Jordi Capó (IFIC)\nhttps://indico.ific.uv.es/event/
 8368/contributions/29541/
LOCATION:Universe 1001-Primera-119 - Nave. Exp. Sala de Reuniones
URL:https://indico.ific.uv.es/event/8368/contributions/29541/
END:VEVENT
END:VCALENDAR
