BEGIN:VCALENDAR
VERSION:2.0
PRODID:-//CERN//INDICO//EN
BEGIN:VEVENT
SUMMARY:Optical measurements
DTSTART;VALUE=DATE-TIME:20251217T090000Z
DTEND;VALUE=DATE-TIME:20251217T091500Z
DTSTAMP;VALUE=DATE-TIME:20260421T131502Z
UID:indico-contribution-29538@indico.ific.uv.es
DESCRIPTION:Speakers: Hamza Amar Es-sghir (IFIC (UV-CSIC))\nhttps://indico
 .ific.uv.es/event/8368/contributions/29538/
LOCATION:Universe 1001-Primera-119 - Nave. Exp. Sala de Reuniones
URL:https://indico.ific.uv.es/event/8368/contributions/29538/
END:VEVENT
END:VCALENDAR
