BEGIN:VCALENDAR
VERSION:2.0
PRODID:-//CERN//INDICO//EN
BEGIN:VEVENT
SUMMARY:Round of updates
DTSTART;VALUE=DATE-TIME:20251203T094000Z
DTEND;VALUE=DATE-TIME:20251203T095000Z
DTSTAMP;VALUE=DATE-TIME:20260421T221959Z
UID:indico-contribution-29446@indico.ific.uv.es
DESCRIPTION:https://indico.ific.uv.es/event/8350/contributions/29446/
LOCATION:Universe 1001-Primera-119 - Nave. Exp. Sala de Reuniones
URL:https://indico.ific.uv.es/event/8350/contributions/29446/
END:VEVENT
END:VCALENDAR
