BEGIN:VCALENDAR
VERSION:2.0
PRODID:-//CERN//INDICO//EN
BEGIN:VEVENT
SUMMARY:Prototyping
DTSTART;VALUE=DATE-TIME:20251118T094500Z
DTEND;VALUE=DATE-TIME:20251118T095500Z
DTSTAMP;VALUE=DATE-TIME:20260423T181541Z
UID:indico-contribution-8331-29250@indico.ific.uv.es
DESCRIPTION:Speakers: Jordi Capó (IFIC)\nhttps://indico.ific.uv.es/event/
 8331/contributions/29250/
LOCATION:
URL:https://indico.ific.uv.es/event/8331/contributions/29250/
END:VEVENT
BEGIN:VEVENT
SUMMARY:Other
DTSTART;VALUE=DATE-TIME:20251118T095500Z
DTEND;VALUE=DATE-TIME:20251118T100000Z
DTSTAMP;VALUE=DATE-TIME:20260423T181541Z
UID:indico-contribution-8331-29249@indico.ific.uv.es
DESCRIPTION:Speakers: Anselmo Cervera (IFIC)\nhttps://indico.ific.uv.es/ev
 ent/8331/contributions/29249/
LOCATION:
URL:https://indico.ific.uv.es/event/8331/contributions/29249/
END:VEVENT
BEGIN:VEVENT
SUMMARY:Electronics
DTSTART;VALUE=DATE-TIME:20251118T092000Z
DTEND;VALUE=DATE-TIME:20251118T093500Z
DTSTAMP;VALUE=DATE-TIME:20260423T181541Z
UID:indico-contribution-8331-29248@indico.ific.uv.es
DESCRIPTION:Speakers: Xavier Pons (CERN)\nhttps://indico.ific.uv.es/event/
 8331/contributions/29248/
LOCATION:
URL:https://indico.ific.uv.es/event/8331/contributions/29248/
END:VEVENT
BEGIN:VEVENT
SUMMARY:Quality control
DTSTART;VALUE=DATE-TIME:20251118T093500Z
DTEND;VALUE=DATE-TIME:20251118T094500Z
DTSTAMP;VALUE=DATE-TIME:20260423T181541Z
UID:indico-contribution-8331-29247@indico.ific.uv.es
DESCRIPTION:Speakers: Victoria García Pol (IFIC y UV)\nhttps://indico.ifi
 c.uv.es/event/8331/contributions/29247/
LOCATION:
URL:https://indico.ific.uv.es/event/8331/contributions/29247/
END:VEVENT
BEGIN:VEVENT
SUMMARY:Mechanics
DTSTART;VALUE=DATE-TIME:20251118T091000Z
DTEND;VALUE=DATE-TIME:20251118T092000Z
DTSTAMP;VALUE=DATE-TIME:20260423T181541Z
UID:indico-contribution-8331-29246@indico.ific.uv.es
DESCRIPTION:Speakers: Simon Teruel Pardo (CSIC-IFIC)\nhttps://indico.ific.
 uv.es/event/8331/contributions/29246/
LOCATION:
URL:https://indico.ific.uv.es/event/8331/contributions/29246/
END:VEVENT
BEGIN:VEVENT
SUMMARY:Introduction
DTSTART;VALUE=DATE-TIME:20251118T090000Z
DTEND;VALUE=DATE-TIME:20251118T091000Z
DTSTAMP;VALUE=DATE-TIME:20260423T181541Z
UID:indico-contribution-8331-29245@indico.ific.uv.es
DESCRIPTION:Speakers: Anselmo Cervera (IFIC)\nhttps://indico.ific.uv.es/ev
 ent/8331/contributions/29245/
LOCATION:
URL:https://indico.ific.uv.es/event/8331/contributions/29245/
END:VEVENT
END:VCALENDAR
