BEGIN:VCALENDAR
VERSION:2.0
PRODID:-//CERN//INDICO//EN
BEGIN:VEVENT
SUMMARY:RTD December PRR
DTSTART;VALUE=DATE-TIME:20251118T090000Z
DTEND;VALUE=DATE-TIME:20251118T104000Z
DTSTAMP;VALUE=DATE-TIME:20260423T100809Z
UID:indico-event-8331@indico.ific.uv.es
DESCRIPTION:https://indico.ific.uv.es/event/8331/
LOCATION:
URL:https://indico.ific.uv.es/event/8331/
END:VEVENT
END:VCALENDAR
