BEGIN:VCALENDAR
VERSION:2.0
PRODID:-//CERN//INDICO//EN
BEGIN:VEVENT
SUMMARY:Update on FBG R&D
DTSTART;VALUE=DATE-TIME:20251112T092500Z
DTEND;VALUE=DATE-TIME:20251112T094000Z
DTSTAMP;VALUE=DATE-TIME:20260424T035448Z
UID:indico-contribution-8324-29222@indico.ific.uv.es
DESCRIPTION:Speakers: Victoria García Pol (IFIC y UV)\nhttps://indico.ifi
 c.uv.es/event/8324/contributions/29222/
LOCATION:Universe 1001-Primera-119 - Nave. Exp. Sala de Reuniones
URL:https://indico.ific.uv.es/event/8324/contributions/29222/
END:VEVENT
BEGIN:VEVENT
SUMMARY:Round of updates
DTSTART;VALUE=DATE-TIME:20251112T094000Z
DTEND;VALUE=DATE-TIME:20251112T095000Z
DTSTAMP;VALUE=DATE-TIME:20260424T035448Z
UID:indico-contribution-8324-29221@indico.ific.uv.es
DESCRIPTION:https://indico.ific.uv.es/event/8324/contributions/29221/
LOCATION:Universe 1001-Primera-119 - Nave. Exp. Sala de Reuniones
URL:https://indico.ific.uv.es/event/8324/contributions/29221/
END:VEVENT
BEGIN:VEVENT
SUMMARY:Update on optical measurements
DTSTART;VALUE=DATE-TIME:20251112T091000Z
DTEND;VALUE=DATE-TIME:20251112T092500Z
DTSTAMP;VALUE=DATE-TIME:20260424T035448Z
UID:indico-contribution-8324-29220@indico.ific.uv.es
DESCRIPTION:Speakers: Hamza Amar Es-sghir (IFIC (UV-CSIC))\nhttps://indico
 .ific.uv.es/event/8324/contributions/29220/
LOCATION:Universe 1001-Primera-119 - Nave. Exp. Sala de Reuniones
URL:https://indico.ific.uv.es/event/8324/contributions/29220/
END:VEVENT
BEGIN:VEVENT
SUMMARY:Urgent purchases
DTSTART;VALUE=DATE-TIME:20251112T090000Z
DTEND;VALUE=DATE-TIME:20251112T091000Z
DTSTAMP;VALUE=DATE-TIME:20260424T035448Z
UID:indico-contribution-8324-29219@indico.ific.uv.es
DESCRIPTION:Speakers: Hamza Amar Es-sghir (IFIC (UV-CSIC))\, Justo Martín
 -Albo (IFIC)\, Nadia Yahlali (IFIC)\nhttps://indico.ific.uv.es/event/8324/
 contributions/29219/
LOCATION:Universe 1001-Primera-119 - Nave. Exp. Sala de Reuniones
URL:https://indico.ific.uv.es/event/8324/contributions/29219/
END:VEVENT
END:VCALENDAR
