BEGIN:VCALENDAR
VERSION:2.0
PRODID:-//CERN//INDICO//EN
BEGIN:VEVENT
SUMMARY:DUNE-IFIC meeting
DTSTART;VALUE=DATE-TIME:20251112T090000Z
DTEND;VALUE=DATE-TIME:20251112T101000Z
DTSTAMP;VALUE=DATE-TIME:20260423T132614Z
UID:indico-event-8324@indico.ific.uv.es
DESCRIPTION:https://indico.ific.uv.es/event/8324/
LOCATION:Universe 1001-Primera-119 - Nave. Exp. Sala de Reuniones
URL:https://indico.ific.uv.es/event/8324/
END:VEVENT
END:VCALENDAR
