BEGIN:VCALENDAR
VERSION:2.0
PRODID:-//CERN//INDICO//EN
BEGIN:VEVENT
SUMMARY:Prototyping
DTSTART;VALUE=DATE-TIME:20251111T094500Z
DTEND;VALUE=DATE-TIME:20251111T095500Z
DTSTAMP;VALUE=DATE-TIME:20260424T064521Z
UID:indico-contribution-8319-29210@indico.ific.uv.es
DESCRIPTION:Speakers: Jordi Capó (IFIC)\nhttps://indico.ific.uv.es/event/
 8319/contributions/29210/
LOCATION:
URL:https://indico.ific.uv.es/event/8319/contributions/29210/
END:VEVENT
BEGIN:VEVENT
SUMMARY:Other
DTSTART;VALUE=DATE-TIME:20251111T095500Z
DTEND;VALUE=DATE-TIME:20251111T100000Z
DTSTAMP;VALUE=DATE-TIME:20260424T064521Z
UID:indico-contribution-8319-29209@indico.ific.uv.es
DESCRIPTION:Speakers: Anselmo Cervera (IFIC)\nhttps://indico.ific.uv.es/ev
 ent/8319/contributions/29209/
LOCATION:
URL:https://indico.ific.uv.es/event/8319/contributions/29209/
END:VEVENT
BEGIN:VEVENT
SUMMARY:Electronics
DTSTART;VALUE=DATE-TIME:20251111T092000Z
DTEND;VALUE=DATE-TIME:20251111T093500Z
DTSTAMP;VALUE=DATE-TIME:20260424T064521Z
UID:indico-contribution-8319-29208@indico.ific.uv.es
DESCRIPTION:Speakers: Xavier Pons (CERN)\nhttps://indico.ific.uv.es/event/
 8319/contributions/29208/
LOCATION:
URL:https://indico.ific.uv.es/event/8319/contributions/29208/
END:VEVENT
BEGIN:VEVENT
SUMMARY:Quality control
DTSTART;VALUE=DATE-TIME:20251111T093500Z
DTEND;VALUE=DATE-TIME:20251111T094500Z
DTSTAMP;VALUE=DATE-TIME:20260424T064521Z
UID:indico-contribution-8319-29207@indico.ific.uv.es
DESCRIPTION:Speakers: Victoria García Pol (IFIC y UV)\nhttps://indico.ifi
 c.uv.es/event/8319/contributions/29207/
LOCATION:
URL:https://indico.ific.uv.es/event/8319/contributions/29207/
END:VEVENT
BEGIN:VEVENT
SUMMARY:Mechanics
DTSTART;VALUE=DATE-TIME:20251111T091000Z
DTEND;VALUE=DATE-TIME:20251111T092000Z
DTSTAMP;VALUE=DATE-TIME:20260424T064521Z
UID:indico-contribution-8319-29206@indico.ific.uv.es
DESCRIPTION:Speakers: Simon Teruel Pardo (CSIC-IFIC)\nhttps://indico.ific.
 uv.es/event/8319/contributions/29206/
LOCATION:
URL:https://indico.ific.uv.es/event/8319/contributions/29206/
END:VEVENT
BEGIN:VEVENT
SUMMARY:Introduction
DTSTART;VALUE=DATE-TIME:20251111T090000Z
DTEND;VALUE=DATE-TIME:20251111T091000Z
DTSTAMP;VALUE=DATE-TIME:20260424T064521Z
UID:indico-contribution-8319-29205@indico.ific.uv.es
DESCRIPTION:Speakers: Anselmo Cervera (IFIC)\nhttps://indico.ific.uv.es/ev
 ent/8319/contributions/29205/
LOCATION:
URL:https://indico.ific.uv.es/event/8319/contributions/29205/
END:VEVENT
END:VCALENDAR
