BEGIN:VCALENDAR
VERSION:2.0
PRODID:-//CERN//INDICO//EN
BEGIN:VEVENT
SUMMARY:RTD December PRR
DTSTART;VALUE=DATE-TIME:20251111T090000Z
DTEND;VALUE=DATE-TIME:20251111T104000Z
DTSTAMP;VALUE=DATE-TIME:20260424T120123Z
UID:indico-event-8319@indico.ific.uv.es
DESCRIPTION:https://indico.ific.uv.es/event/8319/
LOCATION:
URL:https://indico.ific.uv.es/event/8319/
END:VEVENT
END:VCALENDAR
