BEGIN:VCALENDAR
VERSION:2.0
PRODID:-//CERN//INDICO//EN
BEGIN:VEVENT
SUMMARY:FCC Allegro/TileCal-like calorimeter
DTSTART;VALUE=DATE-TIME:20260113T155000Z
DTEND;VALUE=DATE-TIME:20260113T161000Z
DTSTAMP;VALUE=DATE-TIME:20260421T134536Z
UID:indico-contribution-29595@indico.ific.uv.es
DESCRIPTION:Speakers: Ana Arranz Asensi ()\nThe ALLEGRO detector concept f
 or the Future Circular Collider (FCC) foresees a robust and highly perform
 ant hadronic calorimeter inspired by the ATLAS Tile Calorimeter design. Wi
 thin the DRD Calo Work Package 3\, we present the ALLEGRO/TileCal proposal
 . The proposed design profits from the operational experience of TileCal a
 t the LHC\, while incorporating advances in photodetectors\, electronics\,
  and signal reconstruction to meet the demands of future high-rate\, high-
 precision collider experiments.\nEmphasis is placed on the calorimeter exp
 ected performance and the studies being carried-out at IFIC.\n\nhttps://in
 dico.ific.uv.es/event/8313/contributions/29595/
LOCATION:Universe 1001-Primera-135 - Nave Exp. Sala de Audiovisuales
URL:https://indico.ific.uv.es/event/8313/contributions/29595/
END:VEVENT
END:VCALENDAR
