BEGIN:VCALENDAR
VERSION:2.0
PRODID:-//CERN//INDICO//EN
BEGIN:VEVENT
SUMMARY:Adapting High Granular and compact silicon calorimeters concepts f
 rom Higgs Factories to Dark Matter experiments
DTSTART;VALUE=DATE-TIME:20260113T150000Z
DTEND;VALUE=DATE-TIME:20260113T152000Z
DTSTAMP;VALUE=DATE-TIME:20260422T155749Z
UID:indico-contribution-29593@indico.ific.uv.es
DESCRIPTION:Speakers: Shan Huang (IFIC Exp. - AITANA)\nIn this talk\, we a
 im to summarize recent simulation studies on the exploitation of silicon-t
 ungsten high-granular calorimeter concepts in small scale Strong-FieldQED\
 , Dark Matter or direct searches for new particles in novel experiments. T
 hese concepts have been tailored for collider physics\, specifically Higgs
  Factories and the LHC. However\, the intrinsic capabilities of these desi
 gns\, which aim for a low Molière radius and high granularity\, potentiat
 e the applicability of these concepts to other experiments\, such as the L
 UXE New Physics with Optical Dump (NPOD) proposal\n\nhttps://indico.ific.u
 v.es/event/8313/contributions/29593/
LOCATION:Universe 1001-Primera-135 - Nave Exp. Sala de Audiovisuales
URL:https://indico.ific.uv.es/event/8313/contributions/29593/
END:VEVENT
END:VCALENDAR
