BEGIN:VCALENDAR
VERSION:2.0
PRODID:-//CERN//INDICO//EN
BEGIN:VEVENT
SUMMARY:UB-UPC-IFIC - PicoCAL 20' (+5' discussions)
DTSTART;VALUE=DATE-TIME:20260113T115000Z
DTEND;VALUE=DATE-TIME:20260113T121500Z
DTSTAMP;VALUE=DATE-TIME:20260419T134555Z
UID:indico-contribution-29443@indico.ific.uv.es
DESCRIPTION:Speakers: Eduardo Picatoste Olloqui (University of Barcelona (
 ES))\nhttps://indico.ific.uv.es/event/8313/contributions/29443/
LOCATION:Universe 1001-Primera-135 - Nave Exp. Sala de Audiovisuales
URL:https://indico.ific.uv.es/event/8313/contributions/29443/
END:VEVENT
END:VCALENDAR
