BEGIN:VCALENDAR
VERSION:2.0
PRODID:-//CERN//INDICO//EN
BEGIN:VEVENT
SUMMARY:IFIC - Silicon ECALs 20' (+5' discussions)
DTSTART;VALUE=DATE-TIME:20260113T110000Z
DTEND;VALUE=DATE-TIME:20260113T112500Z
DTSTAMP;VALUE=DATE-TIME:20260421T054258Z
UID:indico-contribution-29441@indico.ific.uv.es
DESCRIPTION:Speakers: Adrian Irles (IFIC (UV/CSIC) Valencia (ES))\nhttps:/
 /indico.ific.uv.es/event/8313/contributions/29441/
LOCATION:Universe 1001-Primera-135 - Nave Exp. Sala de Audiovisuales
URL:https://indico.ific.uv.es/event/8313/contributions/29441/
END:VEVENT
END:VCALENDAR
