BEGIN:VCALENDAR
VERSION:2.0
PRODID:-//CERN//INDICO//EN
BEGIN:VEVENT
SUMMARY:Univ. Oviedo 20' (+5' discussions)
DTSTART;VALUE=DATE-TIME:20260113T101500Z
DTEND;VALUE=DATE-TIME:20260113T104000Z
DTSTAMP;VALUE=DATE-TIME:20260419T134549Z
UID:indico-contribution-29440@indico.ific.uv.es
DESCRIPTION:Speakers: Pietro Vischia (Universidad de Oviedo)\nhttps://indi
 co.ific.uv.es/event/8313/contributions/29440/
LOCATION:Universe 1001-Primera-135 - Nave Exp. Sala de Audiovisuales
URL:https://indico.ific.uv.es/event/8313/contributions/29440/
END:VEVENT
END:VCALENDAR
