BEGIN:VCALENDAR
VERSION:2.0
PRODID:-//CERN//INDICO//EN
BEGIN:VEVENT
SUMMARY:Intro - the DRD Calo and the Future Collider at CERN
DTSTART;VALUE=DATE-TIME:20260113T090000Z
DTEND;VALUE=DATE-TIME:20260113T092500Z
DTSTAMP;VALUE=DATE-TIME:20260419T215709Z
UID:indico-contribution-29438@indico.ific.uv.es
DESCRIPTION:Speakers: MaryCruz Fouz (CIEMAT)\nhttps://indico.ific.uv.es/ev
 ent/8313/contributions/29438/
LOCATION:Universe 1001-Primera-135 - Nave Exp. Sala de Audiovisuales
URL:https://indico.ific.uv.es/event/8313/contributions/29438/
END:VEVENT
END:VCALENDAR
