BEGIN:VCALENDAR
VERSION:2.0
PRODID:-//CERN//INDICO//EN
BEGIN:VEVENT
SUMMARY:Fuentes galácticas de neutrinos con KM3NeT
DTSTART;VALUE=DATE-TIME:20250725T104500Z
DTEND;VALUE=DATE-TIME:20250725T110000Z
DTSTAMP;VALUE=DATE-TIME:20260420T011947Z
UID:indico-contribution-27810@indico.ific.uv.es
DESCRIPTION:Speakers: Belen Carla Merino Pazos ()\, Pablo Machirant León 
 ()\nhttps://indico.ific.uv.es/event/8135/contributions/27810/
LOCATION:Universe 1001-Primera-1-1-1 - Paterna. Seminario
URL:https://indico.ific.uv.es/event/8135/contributions/27810/
END:VEVENT
END:VCALENDAR
