BEGIN:VCALENDAR
VERSION:2.0
PRODID:-//CERN//INDICO//EN
BEGIN:VEVENT
SUMMARY:Análisis de oscilaciones de neutrinos
DTSTART;VALUE=DATE-TIME:20250725T103000Z
DTEND;VALUE=DATE-TIME:20250725T104500Z
DTSTAMP;VALUE=DATE-TIME:20260419T134515Z
UID:indico-contribution-27809@indico.ific.uv.es
DESCRIPTION:Speakers: María Vilches Mejías ()\, Sergi Minchiotti ()\nhtt
 ps://indico.ific.uv.es/event/8135/contributions/27809/
LOCATION:Universe 1001-Primera-1-1-1 - Paterna. Seminario
URL:https://indico.ific.uv.es/event/8135/contributions/27809/
END:VEVENT
END:VCALENDAR
