BEGIN:VCALENDAR
VERSION:2.0
PRODID:-//CERN//INDICO//EN
BEGIN:VEVENT
SUMMARY:Caracterización de un detector de silicio
DTSTART;VALUE=DATE-TIME:20250725T093500Z
DTEND;VALUE=DATE-TIME:20250725T095000Z
DTSTAMP;VALUE=DATE-TIME:20260420T090111Z
UID:indico-contribution-27806@indico.ific.uv.es
DESCRIPTION:Speakers: Adam Omaro López Gomila ()\, Elisa Berto Guasp ()\n
 https://indico.ific.uv.es/event/8135/contributions/27806/
LOCATION:Universe 1001-Primera-1-1-1 - Paterna. Seminario
URL:https://indico.ific.uv.es/event/8135/contributions/27806/
END:VEVENT
END:VCALENDAR
