BEGIN:VCALENDAR
VERSION:2.0
PRODID:-//CERN//INDICO//EN
BEGIN:VEVENT
SUMMARY:Inteligencia artificial aplicada a la imagen médica
DTSTART;VALUE=DATE-TIME:20250725T092000Z
DTEND;VALUE=DATE-TIME:20250725T093500Z
DTSTAMP;VALUE=DATE-TIME:20260420T204348Z
UID:indico-contribution-27805@indico.ific.uv.es
DESCRIPTION:Speakers: Carme Merli Villar ()\, José Reyna Jiménez ()\nhtt
 ps://indico.ific.uv.es/event/8135/contributions/27805/
LOCATION:Universe 1001-Primera-1-1-1 - Paterna. Seminario
URL:https://indico.ific.uv.es/event/8135/contributions/27805/
END:VEVENT
END:VCALENDAR
