BEGIN:VCALENDAR
VERSION:2.0
PRODID:-//CERN//INDICO//EN
BEGIN:VEVENT
SUMMARY:Caracterización de un detector de germanio
DTSTART;VALUE=DATE-TIME:20250725T081500Z
DTEND;VALUE=DATE-TIME:20250725T083000Z
DTSTAMP;VALUE=DATE-TIME:20260420T123946Z
UID:indico-contribution-27491@indico.ific.uv.es
DESCRIPTION:Speakers: Luis Blázquez Nuño ()\, Rosario Muñoz Palmero ()\
 nhttps://indico.ific.uv.es/event/8135/contributions/27491/
LOCATION:Universe 1001-Primera-1-1-1 - Paterna. Seminario
URL:https://indico.ific.uv.es/event/8135/contributions/27491/
END:VEVENT
END:VCALENDAR
