BEGIN:VCALENDAR
VERSION:2.0
PRODID:-//CERN//INDICO//EN
BEGIN:VEVENT
SUMMARY:Análisis de datos de test beam de un calorímetro de alta granula
 ridad para el experimento LUXE
DTSTART;VALUE=DATE-TIME:20250725T080000Z
DTEND;VALUE=DATE-TIME:20250725T081500Z
DTSTAMP;VALUE=DATE-TIME:20260419T134521Z
UID:indico-contribution-27490@indico.ific.uv.es
DESCRIPTION:Speakers: Joan Doria Ribera ()\, Nina Claveria Petit ()\nhttps
 ://indico.ific.uv.es/event/8135/contributions/27490/
LOCATION:Universe 1001-Primera-1-1-1 - Paterna. Seminario
URL:https://indico.ific.uv.es/event/8135/contributions/27490/
END:VEVENT
END:VCALENDAR
