BEGIN:VCALENDAR
VERSION:2.0
PRODID:-//CERN//INDICO//EN
BEGIN:VEVENT
SUMMARY:Caracterización y monitorización de un MPPC
DTSTART;VALUE=DATE-TIME:20250725T071500Z
DTEND;VALUE=DATE-TIME:20250725T073000Z
DTSTAMP;VALUE=DATE-TIME:20260419T175227Z
UID:indico-contribution-27477@indico.ific.uv.es
DESCRIPTION:Speakers: Ian Valls Pérez ()\, Nicolás A. Ryzhov Rando ()\nh
 ttps://indico.ific.uv.es/event/8135/contributions/27477/
LOCATION:Universe 1001-Primera-1-1-1 - Paterna. Seminario
URL:https://indico.ific.uv.es/event/8135/contributions/27477/
END:VEVENT
END:VCALENDAR
