BEGIN:VCALENDAR
VERSION:2.0
PRODID:-//CERN//INDICO//EN
BEGIN:VEVENT
SUMMARY:Análisis de datos de desintegración del bosón de Higgs
DTSTART;VALUE=DATE-TIME:20250725T070000Z
DTEND;VALUE=DATE-TIME:20250725T071500Z
DTSTAMP;VALUE=DATE-TIME:20260420T043423Z
UID:indico-contribution-27448@indico.ific.uv.es
DESCRIPTION:Speakers: Alessandro Perluzzo Patete ()\, Miquel Marquina Sim
 ón ()\nhttps://indico.ific.uv.es/event/8135/contributions/27448/
LOCATION:Universe 1001-Primera-1-1-1 - Paterna. Seminario
URL:https://indico.ific.uv.es/event/8135/contributions/27448/
END:VEVENT
END:VCALENDAR
