BEGIN:VCALENDAR
VERSION:2.0
PRODID:-//CERN//INDICO//EN
BEGIN:VEVENT
SUMMARY:Welcome
DTSTART;VALUE=DATE-TIME:20251119T130000Z
DTEND;VALUE=DATE-TIME:20251119T131500Z
DTSTAMP;VALUE=DATE-TIME:20260420T161233Z
UID:indico-contribution-29256@indico.ific.uv.es
DESCRIPTION:Speakers: César Domingo-Pardo (Instituto de Física Corpuscul
 ar (IFIC))\nhttps://indico.ific.uv.es/event/8035/contributions/29256/
LOCATION:
URL:https://indico.ific.uv.es/event/8035/contributions/29256/
END:VEVENT
END:VCALENDAR
