BEGIN:VCALENDAR
VERSION:2.0
PRODID:-//CERN//INDICO//EN
BEGIN:VEVENT
SUMMARY:Update on the CNID School
DTSTART;VALUE=DATE-TIME:20251119T164000Z
DTEND;VALUE=DATE-TIME:20251119T170000Z
DTSTAMP;VALUE=DATE-TIME:20260420T202026Z
UID:indico-contribution-29233@indico.ific.uv.es
DESCRIPTION:Speakers: Carlos Lacasta (IFIC-Valencia (CSIC-UV))\, Carmen Ga
 rcia (IFIC)\nhttps://indico.ific.uv.es/event/8035/contributions/29233/
LOCATION:
URL:https://indico.ific.uv.es/event/8035/contributions/29233/
END:VEVENT
END:VCALENDAR
