BEGIN:VCALENDAR
VERSION:2.0
PRODID:-//CERN//INDICO//EN
BEGIN:VEVENT
SUMMARY:Update on the strategic analysis (white paper)
DTSTART;VALUE=DATE-TIME:20251119T162000Z
DTEND;VALUE=DATE-TIME:20251119T164000Z
DTSTAMP;VALUE=DATE-TIME:20260422T105537Z
UID:indico-contribution-29232@indico.ific.uv.es
DESCRIPTION:Speakers: Cesar Domingo-Pardo (IFIC (CSIC-University of Valenc
 ia))\, César Domingo-Pardo (Instituto de Física Corpuscular (IFIC))\nhtt
 ps://indico.ific.uv.es/event/8035/contributions/29232/
LOCATION:
URL:https://indico.ific.uv.es/event/8035/contributions/29232/
END:VEVENT
END:VCALENDAR
