BEGIN:VCALENDAR
VERSION:2.0
PRODID:-//CERN//INDICO//EN
BEGIN:VEVENT
SUMMARY:CNID News and recent activites
DTSTART;VALUE=DATE-TIME:20251119T160000Z
DTEND;VALUE=DATE-TIME:20251119T162000Z
DTSTAMP;VALUE=DATE-TIME:20260421T175443Z
UID:indico-contribution-29231@indico.ific.uv.es
DESCRIPTION:Speakers: Ivan Vila Alvarez (Instituto de Física de Cantabria
  (CSIC-UC))\nhttps://indico.ific.uv.es/event/8035/contributions/29231/
LOCATION:
URL:https://indico.ific.uv.es/event/8035/contributions/29231/
END:VEVENT
END:VCALENDAR
