BEGIN:VCALENDAR
VERSION:2.0
PRODID:-//CERN//INDICO//EN
BEGIN:VEVENT
SUMMARY:ProtoDUNEs: Testing Technologies for the Deep Underground Neutrino
  Experiment
DTSTART;VALUE=DATE-TIME:20251119T131500Z
DTEND;VALUE=DATE-TIME:20251119T133000Z
DTSTAMP;VALUE=DATE-TIME:20260420T161304Z
UID:indico-contribution-29121@indico.ific.uv.es
DESCRIPTION:Speakers: Andrea Roche (IFIC\, CSIC-UV)\nhttps://indico.ific.u
 v.es/event/8035/contributions/29121/
LOCATION:
URL:https://indico.ific.uv.es/event/8035/contributions/29121/
END:VEVENT
END:VCALENDAR
