BEGIN:VCALENDAR
VERSION:2.0
PRODID:-//CERN//INDICO//EN
BEGIN:VEVENT
SUMMARY:COmpact DEtector for EXotics at LHCb: CODEX-b
DTSTART;VALUE=DATE-TIME:20251119T172000Z
DTEND;VALUE=DATE-TIME:20251119T174000Z
DTSTAMP;VALUE=DATE-TIME:20260421T021315Z
UID:indico-contribution-29049@indico.ific.uv.es
DESCRIPTION:Speakers: Carlos Vázquez Sierra (Universidade de Santiago de 
 Compostela)\nhttps://indico.ific.uv.es/event/8035/contributions/29049/
LOCATION:
URL:https://indico.ific.uv.es/event/8035/contributions/29049/
END:VEVENT
END:VCALENDAR
