BEGIN:VCALENDAR
VERSION:2.0
PRODID:-//CERN//INDICO//EN
BEGIN:VEVENT
SUMMARY:Explorando la estructura de núcleos exóticos ligeros mediante re
 acciones de transferencia en cinemática inversa
DTSTART;VALUE=DATE-TIME:20251119T140000Z
DTEND;VALUE=DATE-TIME:20251119T141500Z
DTSTAMP;VALUE=DATE-TIME:20260421T230803Z
UID:indico-contribution-29018@indico.ific.uv.es
DESCRIPTION:Speakers: Sebastian Gomez Garcia (CSIC-IEM)\nLos núcleos lige
 ros cercanos a la línea de goteo neutrónica presentan propiedades exóti
 cas\, como el \\textit{clustering} y la formación de halo. Determinar su 
 estructura ha representado un desafío importante durante las últimas dé
 cadas.\n\nEl núcleo $11Li$ posee un halo de dos neutrones\, y aunque su e
 stado fundamental está consolidado como una combinación de ondas $s \\ (
 35 (4)\\%)$\,  $p \\ (59 (1)\\%)$ y   $d \\ (6 (4)\\%)$\; la naturaleza de
  sus estados excitados sigue siendo motivo de debate. Por otro    lado\, e
 l núcleo no ligado $13Be$ es esencial para estudiar la estructura del nú
 cleo $14Be$\, un sistema deformado que presenta un halo de dos neutrones.\
 n\nEl experimento IS690 realizado en HIE-ISOLDE (CERN) tiene como objetivo
  arrojar nueva luz sobre estos núcleos exóticos mediante reacciones de t
 ransferencia en cinemática inversa\, empleando los haces exóticos de $9L
 i$ y $11Be$ con energías por encima de la barrera de 7 MeV/u y 5.4 MeV/u\
 , sobre una lámina de Tritio/Titanio. Estas reacciones permiten estudiar 
 la transferencia de dos neutrones y acceder a la estructura de los núcleo
 s de interés.\n\nEn este trabajo\, presentaré los dispostivos experiment
 ales utilizados\, y los resultados pariales obtenidos hasta la fecha.\n\nh
 ttps://indico.ific.uv.es/event/8035/contributions/29018/
LOCATION:
URL:https://indico.ific.uv.es/event/8035/contributions/29018/
END:VEVENT
END:VCALENDAR
