BEGIN:VCALENDAR
VERSION:2.0
PRODID:-//CERN//INDICO//EN
BEGIN:VEVENT
SUMMARY:The Role of Nuclear Physics in Neutrino Oscillation Experiments
DTSTART;VALUE=DATE-TIME:20251119T173000Z
DTEND;VALUE=DATE-TIME:20251119T174500Z
DTSTAMP;VALUE=DATE-TIME:20260421T044232Z
UID:indico-contribution-29014@indico.ific.uv.es
DESCRIPTION:Speakers: Javier García-Marcos (Universidad Complutense de Ma
 drid)\nNeutrino oscillation experiments have revealed that neutrinos have 
 mass\, providing the first clear evidence of physics beyond the Standard M
 odel. These experiments are essential to achieve key goals in neutrino phy
 sics\, such as measuring the CP-violating phase\, determining neutrino mix
 ing angles and mass ordering\, and probing possible new physics. Future fa
 cilities such as DUNE and Hyper-Kamiokande aim to obtain these measurement
 s with unprecedented precision.\n\nIn current and future accelerator-based
  neutrino experiments\, detectors are composed of complex nuclei such as o
 xygen\, carbon\, or argon. Because neutrino beams are not monochromatic\, 
 a detailed understanding of neutrino–nucleus scattering across a broad e
 nergy range is essential to reduce systematic errors in neutrino energy re
 construction and oscillation analyses.\n\nReliable predictions of these in
 teractions require advanced nuclear models that account for various nuclea
 r effects. The relativistic mean-field (RMF) model provides an independent
 -particle description of the nucleus within a microscopic\, quantum-mechan
 ical framework\, allowing consistent assessment of nuclear effects across 
 different interaction channels.\n\nIn this talk\, I will discuss several n
 uclear effects relevant to neutrino–nucleus cross sections at low and in
 termediate energies within the relativistic mean-field framework\, focusin
 g on quasielastic and single-pion production processes that are particular
 ly important for neutrino oscillation experiments.\n\n\nL. Alvarez-Ruso et
  al.\, Progress in Particle and Nuclear Physics 100 (2018)\nR. González-J
 iménez et al.\, Phys. Rev. C 100\, 045501 (2019).\nT. Franco-Munoz et al.
 \, Phys.Rev.C 108\, 064608 (2023).\nJ. García-Marcos et al.\, Phys.Rev.C 
 109\, 024608 (2024).\nT. Franco-Munoz et al.\, J.Phys.G 52\, 025103 (2025)
 .\n\nhttps://indico.ific.uv.es/event/8035/contributions/29014/
LOCATION:
URL:https://indico.ific.uv.es/event/8035/contributions/29014/
END:VEVENT
END:VCALENDAR
