BEGIN:VCALENDAR
VERSION:2.0
PRODID:-//CERN//INDICO//EN
BEGIN:VEVENT
SUMMARY:RPC readout optimization: miniTRASGO as a path to a single-plane m
 ultiplexed timing system
DTSTART;VALUE=DATE-TIME:20251119T134500Z
DTEND;VALUE=DATE-TIME:20251119T140000Z
DTSTAMP;VALUE=DATE-TIME:20260422T071156Z
UID:indico-contribution-29013@indico.ific.uv.es
DESCRIPTION:Speakers: Cayetano Soneira Landín (GFN - UCM)\nWide multigap 
 glass RPCs deployed in the miniTRASGO muon monitor\, developed at LIP [1] 
 provide a field reference for readout optimization. Continuous operation h
 as been used to validate mechanics and HV distribution\, grounding and shi
 elding\, environmental corrections\, and a lightweight trajectory reconstr
 uction chain. These lessons inform a timing-oriented architecture in which
  a single thin\, multigap chamber [2]\, equipped with narrow strips and si
 gnal merging/multiplexing\, dispenses with a separate thick-strip plane to
  reduce channel count and material [3]. Reference measurements with a doub
 le-stack system indicate operating regimes where single-plane efficiency c
 an degrade even while timing remains competitive\; planned high-voltage an
 d power-delivery scans\, together with complementary fast/slow shaping on 
 the thin strips\, are designed to isolate and mitigate these effects. The 
 target performance is hundreds-of-picoseconds time resolution with sub-mil
 limetre position from a simplified readout\, scalable from compact telesco
 pes to large-area Time-Of-Flight detectors. Emphasis is placed on detector
  engineering\, readout topology and reconstruction workflow.\n\n**Referenc
 es**\n\n1. Soneira-Landín\, C.\, Blanco\, A.\, Fraile\, L. M.\, Garzón\,
  J. A.\, Kornakov\, G.\, Lopes\, L.\, Michel\, J.\, Nouvilas\, V. M.\, & U
 días\, J. M. (2025). miniTRASGO: design and initial results of a compact 
 Resistive Plate Chamber telescope for worldwide cosmic ray monitoring. Adv
 ances in Space Research\, 76(9)\, 5688–5699. https://doi.org/10.1016/j.a
 sr.2025.07.096.\n2. Cerron Zeballos\, E.\, Crotty\, I.\, Hatzifotiadou\, D
 .\, Lamas Valverde\, J.\, Neupane\, S.\, Williams\, M. C. S.\, & Zichichi\
 , A. (1996). A new type of resistive plate chamber: The multigap RPC. Nucl
 ear Instruments and Methods in Physics Research Section A\, 374(1)\, 132
 –135. https://doi.org/10.1016/0168-9002(96)00158-1.\n3. Saraiva\, J.\, &
  Blanco\, A. (2025). New readout codification of large-area multi-gap timi
 ng RPCs for muon scattering tomography. Nuclear Instruments and Methods in
  Physics Research Section A\, 1076\, 170466. https://doi.org/10.1016/j.nim
 a.2025.170466.\n\nhttps://indico.ific.uv.es/event/8035/contributions/29013
 /
LOCATION:
URL:https://indico.ific.uv.es/event/8035/contributions/29013/
END:VEVENT
END:VCALENDAR
