BEGIN:VCALENDAR
VERSION:2.0
PRODID:-//CERN//INDICO//EN
BEGIN:VEVENT
SUMMARY:Searches for physics beyond the Standard Model at the Short-Baseli
 ne Near Detector (SBND)
DTSTART;VALUE=DATE-TIME:20251119T143000Z
DTEND;VALUE=DATE-TIME:20251119T144500Z
DTSTAMP;VALUE=DATE-TIME:20260420T161230Z
UID:indico-contribution-28979@indico.ific.uv.es
DESCRIPTION:Speakers: Jorge Romeo (CIEMAT)\nThe Short-Baseline Near Detect
 or (SBND) is a 112-ton liquid argon time projection chamber 110 m away fro
 m the Booster Neutrino Beam (BNB) target at Fermilab (Illinois\, USA). In 
 addition to its role as the SBN program's near detector\,enabling precisio
 n searches for short-baseline neutrino oscillations\, the proximity of SBN
 D to the BNB target makes the experiment ideal for many beyond the Standar
 d Model (BSM) searches for new particles produced in the beam. The nanosec
 ond-timing resolution of the scintillation light detectors further boosts 
 the experiment capabilities. In this talk\, we present the status and expe
 cted sensitivity to new BSM particles produced in the decay of mesons and 
 in proton-target interactions.\n\nhttps://indico.ific.uv.es/event/8035/con
 tributions/28979/
LOCATION:
URL:https://indico.ific.uv.es/event/8035/contributions/28979/
END:VEVENT
END:VCALENDAR
