BEGIN:VCALENDAR
VERSION:2.0
PRODID:-//CERN//INDICO//EN
BEGIN:VEVENT
SUMMARY:Results from the first run of the NEXT-100 detector
DTSTART;VALUE=DATE-TIME:20251119T144500Z
DTEND;VALUE=DATE-TIME:20251119T150000Z
DTSTAMP;VALUE=DATE-TIME:20260421T044233Z
UID:indico-contribution-28906@indico.ific.uv.es
DESCRIPTION:Speakers: Gonzalo Martínez Lema (IFIC / UV)\nThe NEXT experim
 ent aims to detect neutrinoless double beta decay in $^{136}$Xe using a hi
 gh-pressure gas Time Projection Chamber with electroluminescent amplificat
 ion. This technology features an excellent energy resolution (\n\nhttps://
 indico.ific.uv.es/event/8035/contributions/28906/
LOCATION:
URL:https://indico.ific.uv.es/event/8035/contributions/28906/
END:VEVENT
END:VCALENDAR
