BEGIN:VCALENDAR
VERSION:2.0
PRODID:-//CERN//INDICO//EN
BEGIN:VEVENT
SUMMARY:Neutrino non-standard scenarios in cosmology
DTSTART;VALUE=DATE-TIME:20251120T080000Z
DTEND;VALUE=DATE-TIME:20251120T081500Z
DTSTAMP;VALUE=DATE-TIME:20260420T161232Z
UID:indico-contribution-28903@indico.ific.uv.es
DESCRIPTION:Speakers: Stefano Gariazzo (IFIC UV/CSIC)\nWe discuss the phen
 omenology of neutrino decoupling in the early universe\, by summarising th
 e details of the calculation in standard and non-standard scenarios. We sh
 ow how non-standard physics can affect the amount of neutrinos that exist 
 in the universe and how we can adopt cosmological observations in order to
  constrain neutrino properties such as their mass\, effective number\, int
 eractions\, and non-standard cosmological evolution. Implications for Big 
 Bang Nucleosynthesis are also briefly discussed.\n\nhttps://indico.ific.uv
 .es/event/8035/contributions/28903/
LOCATION:
URL:https://indico.ific.uv.es/event/8035/contributions/28903/
END:VEVENT
END:VCALENDAR
