BEGIN:VCALENDAR
VERSION:2.0
PRODID:-//CERN//INDICO//EN
BEGIN:VEVENT
SUMMARY:The Deep Underground Neutrino Experiment: a new era in precision n
 eutrino physics
DTSTART;VALUE=DATE-TIME:20251119T130000Z
DTEND;VALUE=DATE-TIME:20251119T131500Z
DTSTAMP;VALUE=DATE-TIME:20260420T202022Z
UID:indico-contribution-28902@indico.ific.uv.es
DESCRIPTION:Speakers: Jordi Capó (IFIC)\nThe Deep Underground Neutrino Ex
 periment (DUNE) is a next-generation international experiment that will re
 define our understanding of neutrino physics. The combination of a powerfu
 l wide-band neutrino beam complemented by a high-performance and movable n
 ear detector complex in Fermilab and a far detector with massive Liquid Ar
 gon Time Projection Chambers located 1\,300 km deep at the Sanford Undergr
 ound Research Facility (SURF)\, will allow DUNE not only to determine the 
 neutrino mass ordering and measure potential CP violation in the lepton se
 ctor\, but also to test the completeness of the three-flavour paradigm its
 elf. DUNE’s broad energy coverage and long baseline will give access to 
 all oscillation parameters\, providing unprecedented sensitivity to matter
  effects and potential observations of deviations from standard oscillatio
 n physics\, such as non-standard interactions\, sterile neutrinos\, or CPT
  violation. DUNE will also explore a rich landscape of astrophysical and b
 eyond-Standard-Model phenomena\, from supernova neutrinos to dark sector s
 ignatures. While the demonstrators at CERN and Fermilab continue deliverin
 g physics results\, most of the detector components are already in product
 ion\, as the first cryostat is planned to be installed next year in the re
 cently completed SURF caverns.\n\nhttps://indico.ific.uv.es/event/8035/con
 tributions/28902/
LOCATION:
URL:https://indico.ific.uv.es/event/8035/contributions/28902/
END:VEVENT
END:VCALENDAR
