BEGIN:VCALENDAR
VERSION:2.0
PRODID:-//CERN//INDICO//EN
BEGIN:VEVENT
SUMMARY:Status and prospects of DEAP-3600 after the third fill with liquid
  Ar
DTSTART;VALUE=DATE-TIME:20251119T163000Z
DTEND;VALUE=DATE-TIME:20251119T164500Z
DTSTAMP;VALUE=DATE-TIME:20260420T191856Z
UID:indico-contribution-28899@indico.ific.uv.es
DESCRIPTION:Speakers: Guillermo Vera Diaz (CIEMAT)\nDEAP-3600 is an experi
 ment performing direct dark matter searches since 2016. The detector has j
 ust undergone a third fill in order to achieve its goal sensitivity of 1e-
 46 cm2 for the WIMP-nucleon interaction cross section. This science case i
 s achievable thanks to its location 2 km underground at SNOLAB\, a thoroug
 h RnD to minimize its background and the background discrimination capabil
 ities only achievable with liquid Ar.\n\nBecause of its uniqueness\, DEAP 
 is leading the search of some exotic candidates and is producing physicall
 y relevant results in the field of rare event searches. It is moreover pla
 ying a pivotal role in the framework of the Global Argon Dark Matter Colla
 boration. The expertise accumulated and the analyses performed are central
  for the success of the DarkSide-20k.\n\nIn this talk I plan to address th
 e status and prospects of the experiment\, including dark matter searches 
 and potential for neutrino physics.\n\nhttps://indico.ific.uv.es/event/803
 5/contributions/28899/
LOCATION:
URL:https://indico.ific.uv.es/event/8035/contributions/28899/
END:VEVENT
END:VCALENDAR
