BEGIN:VCALENDAR
VERSION:2.0
PRODID:-//CERN//INDICO//EN
BEGIN:VEVENT
SUMMARY:Characterization of neutron fluxes in underground laboratories wit
 h HENSA
DTSTART;VALUE=DATE-TIME:20251119T171500Z
DTEND;VALUE=DATE-TIME:20251119T173000Z
DTSTAMP;VALUE=DATE-TIME:20260420T234622Z
UID:indico-contribution-28894@indico.ific.uv.es
DESCRIPTION:Speakers: Nil Mont Geli (Universitat Politècnica de Catalunya
 )\nHENSA is a high efficiency neutron spectrometer based on the same princ
 iple than Bonner sphere systems. The detector has been used for years in t
 he Canfranc Underground Laboratory (LSC) in order to assess the neutron fl
 ux underground. In particular\, for more than 3 years HENSA has been being
  used in hall B of the LSC with obejective to characterize the neutron flu
 x that could affect the ANAIS-112 dark-matter experiment.\n\nIn this work\
 , last results from the HENSA campaign at LSC will be discussed\, includin
 g the temporal evolution and energy spectra. In addition\, the status of t
 he recently started HENSA collaboration at the Gran Sasso National Laborat
 ory (LNGS) will be shown.\n\nhttps://indico.ific.uv.es/event/8035/contribu
 tions/28894/
LOCATION:
URL:https://indico.ific.uv.es/event/8035/contributions/28894/
END:VEVENT
END:VCALENDAR
