BEGIN:VCALENDAR
VERSION:2.0
PRODID:-//CERN//INDICO//EN
BEGIN:VEVENT
SUMMARY:The Upgraded ND280 in T2K and Hyper-Kamiokande
DTSTART;VALUE=DATE-TIME:20251119T133000Z
DTEND;VALUE=DATE-TIME:20251119T134500Z
DTSTAMP;VALUE=DATE-TIME:20260420T202025Z
UID:indico-contribution-28893@indico.ific.uv.es
DESCRIPTION:Speakers: Thorsten Lux (IFAE)\nThe ND280 near detector of the 
 T2K experiment at J-PARC plays a crucial role in minimizing the systematic
  uncertainties related to the neutrino flux and neutrino-nucleus cross-sec
 tions\, as it measures the neutrino beam before it oscillates. The ND280 d
 etector has recently been upgraded with a new suite of sub-detectors: a hi
 gh-granularity SuperFGD with 2 million optically-isolated scintillating cu
 bes read out by wavelength-shifting fibres and 55000 Multi-Pixel Photon Co
 unters\; two horizontal Time-Projection Chambers instrumented with resisti
 ve Micromegas\, and additionally six panels of scintillating bars for prec
 ise time-of-flight measurements. The installation of the new subdetectors 
 was completed in May 2024\, and since then\, the T2K collaboration has bee
 n successfully taking neutrino beam data with the upgraded ND280. The tal
 k will cover the performance of the upgraded ND280 and will also address t
 he importance of ND280 for Hyper-Kamiokande.\n\nhttps://indico.ific.uv.es/
 event/8035/contributions/28893/
LOCATION:
URL:https://indico.ific.uv.es/event/8035/contributions/28893/
END:VEVENT
END:VCALENDAR
