BEGIN:VCALENDAR
VERSION:2.0
PRODID:-//CERN//INDICO//EN
BEGIN:VEVENT
SUMMARY:Confronting COHERENT and LHC to test neutrino nonstandard interact
 ions
DTSTART;VALUE=DATE-TIME:20251119T151500Z
DTEND;VALUE=DATE-TIME:20251119T153000Z
DTSTAMP;VALUE=DATE-TIME:20260422T105527Z
UID:indico-contribution-28889@indico.ific.uv.es
DESCRIPTION:Speakers: Adrián Terrones Aragón (IFIC\, CSIC-UV)\nWe will s
 how the complementarity between COHERENT and LHC searches in testing neutr
 ino nonstandard interactions (NSIs) through the completion of the effectiv
 e field theory approach within a Z′ simplified model. Our results reveal
  that LHC bounds are strongly dependent on the Z′ mass\, with relatively
  large masses excluding regions in the parameter space that are allowed by
  COHERENT data and its future expectations. We demonstrate that the combin
 ation of low- and high-energy experiments results in a viable approach to 
 break NSI degeneracies within the context of simplified models.\n\nhttps:/
 /indico.ific.uv.es/event/8035/contributions/28889/
LOCATION:
URL:https://indico.ific.uv.es/event/8035/contributions/28889/
END:VEVENT
END:VCALENDAR
