BEGIN:VCALENDAR
VERSION:2.0
PRODID:-//CERN//INDICO//EN
BEGIN:VEVENT
SUMMARY:Up-scattering production of a sterile fermion at neutrino experime
 nts
DTSTART;VALUE=DATE-TIME:20251119T180000Z
DTEND;VALUE=DATE-TIME:20251119T181500Z
DTSTAMP;VALUE=DATE-TIME:20260422T113302Z
UID:indico-contribution-28883@indico.ific.uv.es
DESCRIPTION:Speakers: Pablo Muñoz Candela (IFIC\, CSIC-UV)\nWe consider t
 he possible production of a new MeV-scale fermion at the COHERENT\, LZ and
  XENONnT experiments\, and the future DUNE detector. The new fermion\, bel
 onging to a dark sector\, can be produced through the up-scattering proces
 s of neutrinos off the nuclei and the electrons of the detector material\,
  via the exchange of a light mediator. We explore the possibility of gener
 alized interactions\, that is a scalar\, pseudoscalar\, vector\, axial or 
 tensor mediator. We perform a detailed statistical analysis of the COHEREN
 T\, LZ and XENONnT datasets and obtain up-to-date constraints on the coupl
 ings and masses of the dark fermion and mediators. Likewise\, we include s
 ensitivities for the DUNE detector. Finally\, we briefly comment on the st
 ability of the dark fermion.\n\nhttps://indico.ific.uv.es/event/8035/contr
 ibutions/28883/
LOCATION:
URL:https://indico.ific.uv.es/event/8035/contributions/28883/
END:VEVENT
END:VCALENDAR
