BEGIN:VCALENDAR
VERSION:2.0
PRODID:-//CERN//INDICO//EN
BEGIN:VEVENT
SUMMARY:Gamma- and neutron-based radiography for non-destructive testing o
 f additive-manufactured steel samples
DTSTART;VALUE=DATE-TIME:20251120T081500Z
DTEND;VALUE=DATE-TIME:20251120T083000Z
DTSTAMP;VALUE=DATE-TIME:20260424T111657Z
UID:indico-contribution-28810@indico.ific.uv.es
DESCRIPTION:Speakers: Cristina Cabo Landeira (UIniversidade de Santiago de
  Compostela)\nConventional X-ray radiography is the current standard for i
 ndustrial non-destructive testing of metallic parts. However\, some limita
 tions arise due to the low penetration depth of X-rays for certain materia
 ls or their thickness. This is the case for metal additive manufacturing\,
  where quality control and internal inspection are critical in most applic
 ations. In this paper we report the use of a $^{137}$Cs gamma source ($\\s
 im$180 MBq) and a $^{60}$Co gamma irradiator ($\\sim$47 TBq) for gamma rad
 iography and tomography of steel samples from additive manufacturing. A si
 mple experimental device composed of a scintillating screen and a frame-ba
 sed camera was used to digitally capture the sample images. Internal detai
 ls were observed with a spatial resolution of 1 -- 3 mm. The same imaging 
 device was adapted and utilized for neutron radiography using thermal neut
 rons from a particle accelerator with similar results. This demonstrates t
 he potential flexibility of the device for different source types in a por
 table and cost-effective system for non-destructive tests.\n\nhttps://indi
 co.ific.uv.es/event/8035/contributions/28810/
LOCATION:
URL:https://indico.ific.uv.es/event/8035/contributions/28810/
END:VEVENT
END:VCALENDAR
