BEGIN:VCALENDAR
VERSION:2.0
PRODID:-//CERN//INDICO//EN
BEGIN:VEVENT
SUMMARY:Mass-unspecific classifiers for mass-dependent searches
DTSTART;VALUE=DATE-TIME:20251120T092000Z
DTEND;VALUE=DATE-TIME:20251120T094000Z
DTSTAMP;VALUE=DATE-TIME:20260420T191853Z
UID:indico-contribution-28808@indico.ific.uv.es
DESCRIPTION:Speakers: Sergio Rodríguez Benítez (Instituto de Física Te
 órica UAM-CSIC)\nhttps://indico.ific.uv.es/event/8035/contributions/28808
 /
LOCATION:
URL:https://indico.ific.uv.es/event/8035/contributions/28808/
END:VEVENT
END:VCALENDAR
