BEGIN:VCALENDAR
VERSION:2.0
PRODID:-//CERN//INDICO//EN
BEGIN:VEVENT
SUMMARY:Search for a resonance decaying into a scalar particle and a Higgs
  boson in the final state with four bottom quarks at ATLAS
DTSTART;VALUE=DATE-TIME:20251119T180000Z
DTEND;VALUE=DATE-TIME:20251119T182000Z
DTSTAMP;VALUE=DATE-TIME:20260422T105704Z
UID:indico-contribution-28804@indico.ific.uv.es
DESCRIPTION:Speakers: Marta Lanzac Berrocal (IFIC (CSIC-UV))\nhttps://indi
 co.ific.uv.es/event/8035/contributions/28804/
LOCATION:
URL:https://indico.ific.uv.es/event/8035/contributions/28804/
END:VEVENT
END:VCALENDAR
